BEGIN:VCALENDAR
VERSION:2.0
PRODID:-//eventon.com NONSGML v1.0//EN
CALSCALE:GREGORIAN
METHOD:PUBLISH
BEGIN:VEVENT
UID:69e7390873441
DTSTAMP:20260421T084456Z
DTSTART:20260925T160000Z
DTEND:20261003T120000Z
LOCATION:Zist Zist 1\,  82377 Penzberg
SUMMARY:SAT 1: Selbsterkenntnis und Lebendigkeit
DESCRIPTION:Vom 25. September bis 03. Oktober 2026 Dieses Modul ermöglicht
  die eigenen Grundmotive\,  die uns im Leben bewegen\,  und unsere früh an
 gelegten Persönlichkeitsstrukturen in der Tiefe zu erkennen. Es eröffnet 
 den Weg zu einer achtsamen Lösung der Identifikationen mit den konditionie
 rten Persönlichkeitsanteilen\,  dem Ego. Wesentliches Ziel ist es\,  die e
 igene[..]\nhttps://www.naranjo-sat.com/de/events/sat-1-selbsterkenntnis-und
 -lebendigkeit-2026/
URL:https://www.naranjo-sat.com/de/events/sat-1-selbsterkenntnis-und-lebendigkeit-2026/
END:VEVENT
END:VCALENDAR