BEGIN:VCALENDAR
VERSION:2.0
PRODID:-//eventon.com NONSGML v1.0//EN
CALSCALE:GREGORIAN
METHOD:PUBLISH
BEGIN:VEVENT
UID:69e7503277004
DTSTAMP:20260421T102346Z
DTSTART:20261008T160000Z
DTEND:20261115T130000Z
LOCATION:Le Château de la Linotte 70230 ROCHE-SUR-LINOTTE
SUMMARY:SAT 2 : Soigner ses relations
DESCRIPTION:Du 8 au 15 novembre 2026 Ce deuxième module nous invite à une
  prise de conscience approfondie de notre expérience intérieure grâce à
  la compréhension des relations psycho-dynamiques entre les structures ém
 otionnelles et mentales de notre personnalité. Il explore également les 
 sous-types et les fixations cognitives de l’Ennéagramme de la personna
 lité ainsi que leurs[..]\nhttps://www.naranjo-sat.com/fr/events/sat-2-soi
 gner-ses-relations-2026/
URL:https://www.naranjo-sat.com/fr/events/sat-2-soigner-ses-relations-2026/
END:VEVENT
END:VCALENDAR