BEGIN:VCALENDAR
VERSION:2.0
PRODID:-//eventon.com NONSGML v1.0//EN
CALSCALE:GREGORIAN
METHOD:PUBLISH
BEGIN:VEVENT
UID:69e51c1d76104
DTSTAMP:20260419T181701Z
DTSTART:20260429T160000Z
DTEND:20260503T120000Z
LOCATION:Le ChÃ¢teau de la Linotte 70230 ROCHE-SUR-LINOTTE
SUMMARY:Â« Les Chemins du Clown Â»
DESCRIPTION:Du 29 avril au 3 mai 2026 Ce stage international\,  le seul pro
 posÃ© par Alain en Europe\,  en modalitÃ© intensive et rÃ©sidentielle\,  es
 t une rencontre surprenante avec notre Ãªtre le plus authentiqueÂ ! GrÃ¢ce 
 Ã  ce petit Â«Â masque rougeÂ Â»\,  nous dÃ©couvrirons comment la peur de Â
 «Â ne pas appartenir au mondeÂ Â»\,  nous[..]\nhttps://www.naranjo-sat.com/
 fr/events/les-chemins-du-clown-alain-vigneau/
URL:https://www.naranjo-sat.com/fr/events/les-chemins-du-clown-alain-vigneau/
END:VEVENT
END:VCALENDAR